BEGIN:VCALENDAR
VERSION:2.0
PRODID:www.seapinesgolfresort.com
X-WR-CALNAME:Calendar Of Events
X-WR-CALDESC:Lists the events
X-WR-TIMEZONE:America/New_York
BEGIN:VTIMEZONE
TZID:America/New_York
X-LIC-LOCATION:America/New_York
END:VTIMEZONE
BEGIN:VEVENT
UID:69e4cc3512af3
DTSTART;VALUE=DATE:20180326
SEQUENCE:0
TRANSP:OPAQUE
URL:https://www.seapinesgolfresort.com/calendar/baywood-farmers-market
SUMMARY:Baywood Farmers' Market
CLASS:PUBLIC
DESCRIPTION:Baywood Farmers' Market\n\nShop or fresh produce\, meats\, fish
 \, soups\, and more at one of SLO County's favorite Farmers Markets!
RRULE:FREQ=WEEKLY;INTERVAL=1;BYDAY=MO
X-MICROSOFT-CDO-ALLDAYEVENT:TRUE
CATEGORIES:Los Osos Events
DTSTAMP:20260419T123605Z
END:VEVENT
BEGIN:VEVENT
UID:69e4cc35171dc
DTSTART;VALUE=DATE:20260404
SEQUENCE:0
TRANSP:OPAQUE
URL:https://www.seapinesgolfresort.com/calendar/demo-day
SUMMARY:Srixon / Cleveland Golf Club Fitting and Demo Day at The Golf Shop 
 at Sea Pines
CLASS:PUBLIC
DESCRIPTION:Srixon / Cleveland Golf Club Fitting and Demo Day at The Golf S
 hop at Sea Pines\n\nGet fit with the latest gear from Srixon & Cleveland G
 olf
RRULE:FREQ=DAILY;INTERVAL=1;UNTIL=20260404T000000Z
X-MICROSOFT-CDO-ALLDAYEVENT:TRUE
DTSTAMP:20260419T123605Z
END:VEVENT
BEGIN:VEVENT
UID:69e4cc3518b70
DTSTART;VALUE=DATE:20260404
SEQUENCE:0
TRANSP:OPAQUE
URL:https://www.seapinesgolfresort.com/calendar/the-ken-show
SUMMARY:The Ken Show
CLASS:PUBLIC
DESCRIPTION:The Ken Show\n\nReturning to Sea Pines
RRULE:FREQ=DAILY;INTERVAL=1;UNTIL=20260404T000000Z
X-MICROSOFT-CDO-ALLDAYEVENT:TRUE
CATEGORIES:Indoor Concert Series
DTSTAMP:20260419T123605Z
END:VEVENT
BEGIN:VEVENT
UID:69e4cc351a6f5
DTSTART;VALUE=DATE:20260405
SEQUENCE:0
TRANSP:OPAQUE
URL:https://www.seapinesgolfresort.com/calendar/easter-sunday-brunch-at-the
 -clubhouse-bar-grill
SUMMARY:Easter Sunday Brunch at the Clubhouse Bar & Grill
CLASS:PUBLIC
DESCRIPTION:Easter Sunday Brunch at the Clubhouse Bar & Grill\n\nSunday\, A
 pril 5th\, 2026
RRULE:FREQ=DAILY;INTERVAL=1;UNTIL=20260405T000000Z
X-MICROSOFT-CDO-ALLDAYEVENT:TRUE
DTSTAMP:20260419T123605Z
END:VEVENT
BEGIN:VEVENT
UID:69e4cc351c710
DTSTART;VALUE=DATE:20260405
SEQUENCE:0
TRANSP:OPAQUE
URL:https://www.seapinesgolfresort.com/calendar/live-music-with-dave-tate
SUMMARY:Live Music with Dave Tate
CLASS:PUBLIC
DESCRIPTION:Live Music with Dave Tate\n\nFolk\, Folk-Rock\, Americana
RRULE:FREQ=DAILY;INTERVAL=1;UNTIL=20260405T000000Z
X-MICROSOFT-CDO-ALLDAYEVENT:TRUE
CATEGORIES:Sunday Music on the Patio
DTSTAMP:20260419T123605Z
END:VEVENT
BEGIN:VEVENT
UID:69e4cc351d3ee
DTSTART;VALUE=DATE:20260411
SEQUENCE:0
TRANSP:OPAQUE
URL:https://www.seapinesgolfresort.com/calendar/kentucky-monk
SUMMARY:Kentucky Monk
CLASS:PUBLIC
DESCRIPTION:Kentucky Monk\n\nNew to the Sea Pines Stage
RRULE:FREQ=DAILY;INTERVAL=1;UNTIL=20260411T000000Z
X-MICROSOFT-CDO-ALLDAYEVENT:TRUE
CATEGORIES:Indoor Concert Series
DTSTAMP:20260419T123605Z
END:VEVENT
BEGIN:VEVENT
UID:69e4cc351dcaa
DTSTART;VALUE=DATE:20260418
SEQUENCE:0
TRANSP:OPAQUE
URL:https://www.seapinesgolfresort.com/calendar/josh-rosenblum-winter-serie
 s
SUMMARY:Josh Rosenblum
CLASS:PUBLIC
DESCRIPTION:Josh Rosenblum\n\nPop rock & soul
RRULE:FREQ=DAILY;INTERVAL=1;UNTIL=20260418T000000Z
X-MICROSOFT-CDO-ALLDAYEVENT:TRUE
CATEGORIES:Indoor Concert Series
DTSTAMP:20260419T123605Z
END:VEVENT
BEGIN:VEVENT
UID:69e4cc351e7b1
DTSTART;VALUE=DATE:20260419
SEQUENCE:0
TRANSP:OPAQUE
URL:https://www.seapinesgolfresort.com/calendar/the-spooners-cove-duo
SUMMARY:The Spooners Cove Duo
CLASS:PUBLIC
DESCRIPTION:The Spooners Cove Duo\n\nNew to the Sea Pines Stage
RRULE:FREQ=DAILY;INTERVAL=1;UNTIL=20260419T000000Z
X-MICROSOFT-CDO-ALLDAYEVENT:TRUE
CATEGORIES:Sunday Music on the Patio
DTSTAMP:20260419T123605Z
END:VEVENT
BEGIN:VEVENT
UID:69e4cc351fd29
DTSTART;VALUE=DATE:20260425
SEQUENCE:0
TRANSP:OPAQUE
URL:https://www.seapinesgolfresort.com/calendar/carbon-city-lights
SUMMARY:Carbon City Lights
CLASS:PUBLIC
DESCRIPTION:Carbon City Lights\n\nFirst Spring Concert on the Green
RRULE:FREQ=DAILY;INTERVAL=1;UNTIL=20260425T000000Z
X-MICROSOFT-CDO-ALLDAYEVENT:TRUE
CATEGORIES:Concerts on the Green
DTSTAMP:20260419T123605Z
END:VEVENT
BEGIN:VEVENT
UID:69e4cc35211df
DTSTART;VALUE=DATE:20260426
SEQUENCE:0
TRANSP:OPAQUE
URL:https://www.seapinesgolfresort.com/calendar/electric-lavender-duo
SUMMARY:Electric Lavender Duo
CLASS:PUBLIC
DESCRIPTION:Electric Lavender Duo\n\n
RRULE:FREQ=DAILY;INTERVAL=1;UNTIL=20260426T000000Z
X-MICROSOFT-CDO-ALLDAYEVENT:TRUE
CATEGORIES:Sunday Music on the Patio
DTSTAMP:20260419T123605Z
END:VEVENT
BEGIN:VEVENT
UID:69e4cc3521b3a
DTSTART;VALUE=DATE:20260502
SEQUENCE:0
TRANSP:OPAQUE
URL:https://www.seapinesgolfresort.com/calendar/soleffect
SUMMARY:Sōleffect
CLASS:PUBLIC
DESCRIPTION:Sōleffect\n\nSassy Funk & Rock
RRULE:FREQ=DAILY;INTERVAL=1;UNTIL=20260502T000000Z
X-MICROSOFT-CDO-ALLDAYEVENT:TRUE
CATEGORIES:Concerts on the Green
DTSTAMP:20260419T123605Z
END:VEVENT
BEGIN:VEVENT
UID:69e4cc3523899
DTSTART;VALUE=DATE:20260503
SEQUENCE:0
TRANSP:OPAQUE
URL:https://www.seapinesgolfresort.com/calendar/different-animals
SUMMARY:Different Animals
CLASS:PUBLIC
DESCRIPTION:Different Animals\n\nFolk • Indie-Pop • Classic Rock
RRULE:FREQ=DAILY;INTERVAL=1;UNTIL=20260503T000000Z
X-MICROSOFT-CDO-ALLDAYEVENT:TRUE
CATEGORIES:Sunday Music on the Patio
DTSTAMP:20260419T123605Z
END:VEVENT
BEGIN:VEVENT
UID:69e4cc3527416
DTSTART;VALUE=DATE:20260509
SEQUENCE:0
TRANSP:OPAQUE
URL:https://www.seapinesgolfresort.com/calendar/blues-asylum
SUMMARY:Blues Asylum
CLASS:PUBLIC
DESCRIPTION:Blues Asylum\n\nThis Central Coast rhythm and blues band will h
 ave you ready to get up and dance.
RRULE:FREQ=DAILY;INTERVAL=1;UNTIL=20260509T000000Z
X-MICROSOFT-CDO-ALLDAYEVENT:TRUE
CATEGORIES:Concerts on the Green
DTSTAMP:20260419T123605Z
END:VEVENT
BEGIN:VEVENT
UID:69e4cc3529192
DTSTART;VALUE=DATE:20260510
SEQUENCE:0
TRANSP:OPAQUE
URL:https://www.seapinesgolfresort.com/calendar/gypsy-all-star-trio
SUMMARY:Gypsy All Star Trio
CLASS:PUBLIC
DESCRIPTION:Gypsy All Star Trio\n\nGypsy Jazz and Swing Era
RRULE:FREQ=DAILY;INTERVAL=1;UNTIL=20260510T000000Z
X-MICROSOFT-CDO-ALLDAYEVENT:TRUE
CATEGORIES:Sunday Music on the Patio
DTSTAMP:20260419T123605Z
END:VEVENT
BEGIN:VEVENT
UID:69e4cc352d253
DTSTART;VALUE=DATE:20260516
SEQUENCE:0
TRANSP:OPAQUE
URL:https://www.seapinesgolfresort.com/calendar/monte-mills-horseshoe-band-
 spring-concert-los-osos
SUMMARY:Monte Mills & the Horseshoe Band Live in Los Osos\, CA
CLASS:PUBLIC
DESCRIPTION:Monte Mills & the Horseshoe Band Live in Los Osos\, CA\n\nMakin
 g their Sea Pines debut. Monte Mills & the Horseshoe Band headline the Spr
 ing Concert on the Green.
RRULE:FREQ=DAILY;INTERVAL=1;UNTIL=20260516T000000Z
X-MICROSOFT-CDO-ALLDAYEVENT:TRUE
CATEGORIES:Concerts on the Green
DTSTAMP:20260419T123605Z
END:VEVENT
BEGIN:VEVENT
UID:69e4cc352e7b0
DTSTART;VALUE=DATE:20260517
SEQUENCE:0
TRANSP:OPAQUE
URL:https://www.seapinesgolfresort.com/calendar/bay-love
SUMMARY:Bay Love
CLASS:PUBLIC
DESCRIPTION:Bay Love\n\nCome out and enjoy Bay Love’s transcendent sound 
 through their original stylings and new arrangements of the classics you l
 ove.
RRULE:FREQ=DAILY;INTERVAL=1;UNTIL=20260517T000000Z
X-MICROSOFT-CDO-ALLDAYEVENT:TRUE
CATEGORIES:Sunday Music on the Patio
DTSTAMP:20260419T123605Z
END:VEVENT
BEGIN:VEVENT
UID:69e4cc352f291
DTSTART;VALUE=DATE:20260523
SEQUENCE:0
TRANSP:OPAQUE
URL:https://www.seapinesgolfresort.com/calendar/club-dv8-band
SUMMARY:DV8 Band Live at Sea Pines | Los Osos\, CA
CLASS:PUBLIC
DESCRIPTION:DV8 Band Live at Sea Pines | Los Osos\, CA\n\nEnjoy the sounds 
 of '80's era modern rock by DV8D at our Concert on the Green!
RRULE:FREQ=DAILY;INTERVAL=1;UNTIL=20260523T000000Z
X-MICROSOFT-CDO-ALLDAYEVENT:TRUE
CATEGORIES:Concerts on the Green
DTSTAMP:20260419T123605Z
END:VEVENT
BEGIN:VEVENT
UID:69e4cc352fe25
DTSTART;VALUE=DATE:20260524
SEQUENCE:0
TRANSP:OPAQUE
URL:https://www.seapinesgolfresort.com/calendar/pickin-and-grinnin
SUMMARY:Pickin' & Grinnin' | Bluegrass\, Country & Americana Brunch Near Mo
 rro Bay
CLASS:PUBLIC
DESCRIPTION:Pickin' & Grinnin' | Bluegrass\, Country & Americana Brunch Nea
 r Morro Bay\n\nLive bluegrass\, country\, blues\, and Americana
RRULE:FREQ=DAILY;INTERVAL=1;UNTIL=20260524T000000Z
X-MICROSOFT-CDO-ALLDAYEVENT:TRUE
CATEGORIES:Sunday Music on the Patio
DTSTAMP:20260419T123605Z
END:VEVENT
BEGIN:VEVENT
UID:69e4cc353235f
DTSTART;VALUE=DATE:20260530
SEQUENCE:0
TRANSP:OPAQUE
URL:https://www.seapinesgolfresort.com/calendar/ras-danny-the-reggae-all-st
 ars
SUMMARY:Ras Danny & the Reggae All Stars Live in Los Osos\, CA
CLASS:PUBLIC
DESCRIPTION:Ras Danny & the Reggae All Stars Live in Los Osos\, CA\n\nLive 
 reggae on the Morro Bay area's best outdoor patio stage. A full afternoon 
 of roots music on the green.
RRULE:FREQ=DAILY;INTERVAL=1;UNTIL=20260530T000000Z
X-MICROSOFT-CDO-ALLDAYEVENT:TRUE
CATEGORIES:Concerts on the Green
DTSTAMP:20260419T123605Z
END:VEVENT
BEGIN:VEVENT
UID:69e4cc3533e09
DTSTART;VALUE=DATE:20260531
SEQUENCE:0
TRANSP:OPAQUE
URL:https://www.seapinesgolfresort.com/calendar/jj-brown
SUMMARY:JJ Brown
CLASS:PUBLIC
DESCRIPTION:JJ Brown\n\nCountry\, Rock\, and Americana music!
RRULE:FREQ=DAILY;INTERVAL=1;UNTIL=20260531T000000Z
X-MICROSOFT-CDO-ALLDAYEVENT:TRUE
CATEGORIES:Sunday Music on the Patio
DTSTAMP:20260419T123605Z
END:VEVENT
BEGIN:VEVENT
UID:69e4cc3535f22
DTSTART;VALUE=DATE:20260606
SEQUENCE:0
TRANSP:OPAQUE
URL:https://www.seapinesgolfresort.com/calendar/unfinished-business-79
SUMMARY:Unfinished Business Live in Los Osos\, CA | '60s Rock\, Pop & Soul
CLASS:PUBLIC
DESCRIPTION:Unfinished Business Live in Los Osos\, CA | '60s Rock\, Pop & S
 oul\n\nOver 1\,000 shows on the Central Coast. Unfinished Business plays t
 he '60s rock and soul classics you know every word to.
RRULE:FREQ=DAILY;INTERVAL=1;UNTIL=20260606T000000Z
X-MICROSOFT-CDO-ALLDAYEVENT:TRUE
CATEGORIES:Concerts on the Green
DTSTAMP:20260419T123605Z
END:VEVENT
BEGIN:VEVENT
UID:69e4cc3537e78
DTSTART;VALUE=DATE:20260607
SEQUENCE:0
TRANSP:OPAQUE
URL:https://www.seapinesgolfresort.com/calendar/kenny-taylor
SUMMARY:Kenny Taylor
CLASS:PUBLIC
DESCRIPTION:Kenny Taylor\n\nJoin us for Sunday Music on the Patio with Kenn
 y Taylor. 
RRULE:FREQ=DAILY;INTERVAL=1;UNTIL=20260607T000000Z
X-MICROSOFT-CDO-ALLDAYEVENT:TRUE
CATEGORIES:Sunday Music on the Patio
DTSTAMP:20260419T123605Z
END:VEVENT
BEGIN:VEVENT
UID:69e4cc3539d05
DTSTART;VALUE=DATE:20260613
SEQUENCE:0
TRANSP:OPAQUE
URL:https://www.seapinesgolfresort.com/calendar/the-santa-cruz-family-band
SUMMARY:Santa Cruz Family Band Live in Los Osos\, CA | R&B\, Soul\, Rock & 
 Funk
CLASS:PUBLIC
DESCRIPTION:Santa Cruz Family Band Live in Los Osos\, CA | R&B\, Soul\, Roc
 k & Funk\n\nR&B\, soul\, rock\, and funk spanning six decades. One of the 
 most requested bands on the Sea Pines stage.
RRULE:FREQ=DAILY;INTERVAL=1;UNTIL=20260613T000000Z
X-MICROSOFT-CDO-ALLDAYEVENT:TRUE
CATEGORIES:Concerts on the Green
DTSTAMP:20260419T123605Z
END:VEVENT
BEGIN:VEVENT
UID:69e4cc353aed1
DTSTART;VALUE=DATE:20260614
SEQUENCE:0
TRANSP:OPAQUE
URL:https://www.seapinesgolfresort.com/calendar/stellar
SUMMARY:Stellar
CLASS:PUBLIC
DESCRIPTION:Stellar\n\nCome out and enjoy this Central Coast favorite. Stel
 lar plays classic hits that span the decades and will have you dancing & s
 inging along.
RRULE:FREQ=DAILY;INTERVAL=1;UNTIL=20260614T000000Z
X-MICROSOFT-CDO-ALLDAYEVENT:TRUE
CATEGORIES:Sunday Music on the Patio
DTSTAMP:20260419T123605Z
END:VEVENT
BEGIN:VEVENT
UID:69e4cc353cfff
DTSTART;VALUE=DATE:20260620
SEQUENCE:0
TRANSP:OPAQUE
URL:https://www.seapinesgolfresort.com/calendar/mininova-latin-rock-soul-ja
 zz-sea-pines-los-osos
SUMMARY:MiniNova Live in Los Osos\, CA | Latin Rock & Soul Jazz
CLASS:PUBLIC
DESCRIPTION:MiniNova Live in Los Osos\, CA | Latin Rock & Soul Jazz\n\nLati
 n rock and soul jazz featuring Kenny Lee Lewis of the Steve Miller Band an
 d Scott Martin of WAR. A touring act unlike anything before.
RRULE:FREQ=DAILY;INTERVAL=1;UNTIL=20260620T000000Z
X-MICROSOFT-CDO-ALLDAYEVENT:TRUE
CATEGORIES:Concerts on the Green
DTSTAMP:20260419T123605Z
END:VEVENT
BEGIN:VEVENT
UID:69e4cc353d615
DTSTART;VALUE=DATE:20260621
SEQUENCE:0
TRANSP:OPAQUE
URL:https://www.seapinesgolfresort.com/calendar/the-taproots-sunday
SUMMARY:The Taproots
CLASS:PUBLIC
DESCRIPTION:The Taproots\n\nMusic and brunch with The Taproots
RRULE:FREQ=DAILY;INTERVAL=1;UNTIL=20260621T000000Z
X-MICROSOFT-CDO-ALLDAYEVENT:TRUE
CATEGORIES:Sunday Music on the Patio
DTSTAMP:20260419T123605Z
END:VEVENT
END:VCALENDAR